BEGIN:VCALENDAR
VERSION:2.0
PRODID:-//Intand Corporation//Tandem//EN
METHOD:PUBLISH
BEGIN:VEVENT
DTSTAMP:20260421T151013Z
DTSTART:20260421T230000Z
DTEND:20260422T010000Z
TRANSP:TRANSPARENT
PRIORITY:0
SUMMARY:HS Softball @ Lamesa
LOCATION:Lamesa H S
DESCRIPTION: \n\n \n\n\nGroups:\nShallowater H S Softball Varsity\n\nSchoo
 ls:\nShallowater HS\nLamesa H S\n\nLocation:\nLamesa H S\n\n
X-ALT-DESC;FMTTYPE=text/html:<!doctype html><html><body><span style="font-
 size: 10pt\;"> </span></p><p> <br /><br />Groups:<br />Shallowater H S Sof
 tball Varsity<br /><br />Schools:<br />Shallowater HS<br />Lamesa H S<br /
 ><br />Location:<br />Lamesa H S<br /></body></html>
URL;VALUE=URI:http://shallowaterisd.tandem.co/index.php?type=view&action=e
 vent&id=52333
CREATED:20260420T130235Z
LAST-MODIFIED:20260420T130235Z
UID:event-52333-shallowaterisd@intand.com
END:VEVENT
END:VCALENDAR
